BEGIN:VCALENDAR
VERSION:2.0
PRODID:-//wp-events-plugin.com//7.2.3.1//EN
TZID:Europe/Rome
X-WR-TIMEZONE:Europe/Rome
BEGIN:VEVENT
UID:230@nbsitalyhub.it
DTSTART;TZID=Europe/Rome;VALUE=DATE:20250521
DTEND;TZID=Europe/Rome;VALUE=DATE:20250523
DTSTAMP:20250507T070240Z
URL:https://www.nbsitalyhub.it/en/eventi/connecting-people-technology-and-
 data-for-biodiversity-monitoring/
SUMMARY:Connecting people\, technology\, and data for biodiversity monitori
 ng
DESCRIPTION:\n\nBiodiversa+ is thrilled to announce its first “Biodiversi
 ty monitoring science fair”\, a dynamic event connecting key actors from
  research\, policy\, and the private sector to explore the latest techno
 logies shaping biodiversity monitoring.\n\nThe fair will take place in Ba
 rcelona on 21 and 22 May.\n\nWhile in-person participation is limited and 
 upon invitation only\, we’re happy to provide robust online access to ke
 y sessions\, allowing you to engage with leading experts and projects from
  anywhere in the world!\nWhat to expect online\n21 May (all day):\n\n 	Key
 notes: Gain insights into the major European and global challenges facing 
 biodiversity monitoring.\n 	Topical sessions: Delve into the specifics of 
 eDNA\, bioacoustics\, and remote sensing.\n 	Project presentations: Discov
 er the latest advancements from various research initiatives.\n\n22 May (m
 orning) :\n\n 	World Café: Join a collaborative exchange on the challenge
 s\, solutions\, and future of monitoring technologies.\n\nThe detailed age
 nda will be posted here and communicated as soon as it is available.\n\n\n
ATTACH;FMTTYPE=image/jpeg:https://www.nbsitalyhub.it/wp-content/uploads/20
 25/05/IMG_2025-03-31_BMSF-2_800x400.webp
CATEGORIES:NbS-themed events
LOCATION:https://www.biodiversa.eu/2025/03/31/event-connecting-people-techn
 ology-and-data-for-biodiversity-monitoring/
END:VEVENT
BEGIN:VTIMEZONE
TZID:Europe/Rome
X-LIC-LOCATION:Europe/Rome
BEGIN:DAYLIGHT
DTSTART:20250330T030000
TZOFFSETFROM:+0100
TZOFFSETTO:+0200
TZNAME:CEST
END:DAYLIGHT
END:VTIMEZONE
END:VCALENDAR