BEGIN:VCALENDAR
VERSION:2.0
PRODID:-//wp-events-plugin.com//7.2.3.1//EN
TZID:Europe/Rome
X-WR-TIMEZONE:Europe/Rome
BEGIN:VEVENT
UID:198@nbsitalyhub.it
DTSTART;TZID=Europe/Rome;VALUE=DATE:20250623
DTEND;TZID=Europe/Rome;VALUE=DATE:20250627
DTSTAMP:20250226T143634Z
URL:https://www.nbsitalyhub.it/en/eventi/emcei-25/
SUMMARY:EMCEI
DESCRIPTION:The 7th Euro-Mediterranean Conference for Environmental Integr
 ation (EMCEI-2025) builds on prior achievements to position itself as the 
 key venue in the Euro-Mediterranean region for showcasing and debating cut
 ting-edge environmental science research from this region and around the w
 orld (see Conference Tracks). EMCEI-25 aims to gather high-quality\, orig
 inal research papers for publication following peer review in the proceedi
 ngs (indexed in Scopus) and in topical collections (special issues) of the
  Euro-Mediterranean Journal for Environmental Integration and other jour
 nals on various multidisciplinary topics linked to the evolution and devel
 opment of the Euro-Mediterranean environment in the past\, present\, and f
 uture (see Special Issues).\n\nThe main objectives of the conference are 
 to support research and innovation\, promote the exchange of scientific kn
 owledge\, and foster collaboration between Euro-Mediterranean communities 
 and their counterparts around the world. The conference participants will 
 have an opportunity to attend several presentations on new indicators and 
 directions in research\, development and innovations in the multidisciplin
 ary fields of the environmental sciences. To this end\, several high-profi
 le scientists will participate in this conference. Moreover\, a social and
  cultural program is planned\, where\, participants can take a little time
  out to explore the wonders of Reggio Calabria\, chief city of Calabria a
 nd the oldest city in the region (see Social Program).\n\nYour participat
 ion in-person or virtually will support EMCEI’s mission of ensuring a su
 stainable environment for societies in the region. We invite you to come t
 o Reggio and contribute to and participate in an exciting conference in a 
 stimulating environment.\n\nJoin us for a memorable experience in Riggiu!\
 n\n\n\nThe 7th EMCEI Steering &amp\; Organizing Committees\n\n\n\nTHE 7TH
  EMCEI WILL GO AHEAD IN-PERSON &amp\; ONLINE THIS JUNE IN Reggio Cal
 abria\, Italy. WE WELCOME PARTICIPANTS FROM ALL OVER THE WORLD!\n\n\n\n 	D
 eadline to submit a short abstract (max. 350 words / 1 page): 10 March 20
 25\n 	Online registration will open on 15 March 2025 and closes on 31 M
 arch 2025\, whilst the deadline for payment is 15 April 2025.\n 	If you h
 ave been selected (i.e. short abstract accepted)\, we will contact you to 
 check whether you want to attend the conference in person and present your
  work to the audience directly or if you would prefer to make your present
 ation online.\n 	You will have until 15 April 2025 (payment deadline) to
  decide on the type of presentation (in-person or online).\n 	Deadline to 
 submit (optional\, not mandatory) an extended abstract for publication in 
 the proceedings by Springer (indexed in Scopus / SCImago): 30 April 2025.
 \n 	Before doing any trip planning\, be sure to check the Travel &amp\; E
 ntry Restrictions to Italy.\n 	Thank you for your great interest in joini
 ng the 7th EMCEI in June 2025!\n\n\n\nEMCEI &amp\; EURO-MEDITERRANEAN JOU
 RNAL FOR ENVIRONMENTAL INTEGRATION\n\n\n\n 	Euro-Mediterranean Journal for
  Environmental Integration (published by Springer) was founded by scienti
 sts at the University of Sfax in Tunisia in collaboration with scientists 
 from other universities in the Euro-Mediterranean region. Since the journa
 l's inception in 2016\, EMCEI has provided it with the best papers to supp
 ort its content with the most recent discoveries and research studies.\n 	
 A special Issue from EMCEI-25 will also be published in the journal. All p
 resenting authors will be invited to submit to the special issues. See the
  full list of our partner journals on Publications.\n 	Euro-Mediterranean
  Journal for Environmental Integration is indexed in the Web of Science an
 d Scopus. Its Scopus CiteScore is 3.5 (July 2023). Its 2023 Impact Factor 
 is 1.8 (June 2024).\nVISIT THE EVENT PAGE &gt\;\n\n\n\n
ATTACH;FMTTYPE=image/jpeg:https://www.nbsitalyhub.it/wp-content/uploads/20
 25/02/56.png
CATEGORIES:NbS-themed events
LOCATION:Reggio Calabria\, Reggio Calabria\, Reggio Calabria\, Italy
X-APPLE-STRUCTURED-LOCATION;VALUE=URI;X-ADDRESS=Reggio Calabria\, Reggio Ca
 labria\, Italy;X-APPLE-RADIUS=100;X-TITLE=Reggio Calabria:geo:0,0
END:VEVENT
BEGIN:VTIMEZONE
TZID:Europe/Rome
X-LIC-LOCATION:Europe/Rome
BEGIN:DAYLIGHT
DTSTART:20250330T030000
TZOFFSETFROM:+0100
TZOFFSETTO:+0200
TZNAME:CEST
END:DAYLIGHT
END:VTIMEZONE
END:VCALENDAR