BEGIN:VCALENDAR
VERSION:2.0
PRODID:-//wp-events-plugin.com//7.2.3.1//EN
TZID:Europe/Rome
X-WR-TIMEZONE:Europe/Rome
BEGIN:VEVENT
UID:200@nbsitalyhub.it
DTSTART;TZID=Europe/Rome;VALUE=DATE:20250616
DTEND;TZID=Europe/Rome;VALUE=DATE:20250619
DTSTAMP:20250226T152847Z
URL:https://www.nbsitalyhub.it/en/eventi/european-climate-change-adaptatio
 n-conference-2/
SUMMARY:EUROPEAN CLIMATE CHANGE ADAPTATION CONFERENCE
DESCRIPTION:THE ECCA2025 CONFERENCE\nThe 7th biennial European Climate Chan
 ge Adaptation Conference (ECCA2025) will be held from June 16-18\, 2025\, 
 in Rimini\, Italy.\n\nThis conference will serve as a vibrant platform for
  showcasing cutting-edge research and innovative solutions\, sharing knowl
 edge and best practices and fostering collaboration towards a climate-resi
 lient society. It will bring together researchers\, decision-makers\, prac
 titioners\, and other relevant stakeholders to exchange research findings\
 , innovative policy developments and solutions\, and practical implementat
 ion experiences.\n\n&nbsp\;\n\nFIND OUT MORE &gt\;
ATTACH;FMTTYPE=image/jpeg:https://www.nbsitalyhub.it/wp-content/uploads/20
 25/02/ecca.png
CATEGORIES:NbS-themed events
LOCATION:Rimini\, Rimini\, Rimini\, Italy
X-APPLE-STRUCTURED-LOCATION;VALUE=URI;X-ADDRESS=Rimini\, Rimini\, Italy;X-A
 PPLE-RADIUS=100;X-TITLE=Rimini:geo:0,0
END:VEVENT
BEGIN:VTIMEZONE
TZID:Europe/Rome
X-LIC-LOCATION:Europe/Rome
BEGIN:DAYLIGHT
DTSTART:20250330T030000
TZOFFSETFROM:+0100
TZOFFSETTO:+0200
TZNAME:CEST
END:DAYLIGHT
END:VTIMEZONE
END:VCALENDAR