BEGIN:VCALENDAR
VERSION:2.0
PRODID:-//wp-events-plugin.com//7.2.3.1//EN
TZID:Europe/Rome
X-WR-TIMEZONE:Europe/Rome
BEGIN:VEVENT
UID:279@nbsitalyhub.it
DTSTART:20250624T220000Z
DTEND:20250626T220000Z
DTSTAMP:20250624T101901Z
URL:https://www.nbsitalyhub.it/en/eventi/european-urban-resilience-forum/
SUMMARY:European Urban Resilience Forum
DESCRIPTION:The 12th European Urban Resilience Forum will take place on 25-
 27 June in Rotterdam\, The Netherlands.\nFor over a decade\, the European 
 Urban Resilience Forum has served as a pivotal European initiative in the 
 field of resilience. Organised by ICLEI and the European Environment Ag
 ency (EEA)\, EURESFO acts as a unique exchange platform that brings toget
 her city representatives\, experts\, and stakeholders from local and regio
 nal institutions to discuss strategies\, initiatives\, and actions related
  to climate change adaptation\, disaster management\, and the cultivation 
 of urban resilience. With this year’s edition focusing on accelerating 
 resilience action\, it will now be co-organised with the City of Rotterda
 m in 2025.\nEURESFO 2025 is taking place at LantarenVenster\, in Rotterd
 am\, The Netherlands.
ATTACH;FMTTYPE=image/jpeg:https://www.nbsitalyhub.it/wp-content/uploads/20
 25/06/csm_EURESFO25__header_image_3074c4cafb-1024x576-1.png
CATEGORIES:NbS-themed events
LOCATION:Rotterdam\, LantarenVenster\, Otto Reuchlinweg 996\, 3072 MD
  \, Rotterdam\, Netherlands
X-APPLE-STRUCTURED-LOCATION;VALUE=URI;X-ADDRESS=LantarenVenster\, Otto Re
 uchlinweg 996\, 3072 MD \, Rotterdam\, Netherlands;X-APPLE-RADIUS=10
 0;X-TITLE=Rotterdam:geo:0,0
END:VEVENT
END:VCALENDAR