BEGIN:VCALENDAR
VERSION:2.0
PRODID:-//wp-events-plugin.com//7.2.3.1//EN
TZID:Europe/Rome
X-WR-TIMEZONE:Europe/Rome
BEGIN:VEVENT
UID:239@nbsitalyhub.it
DTSTART;TZID=Europe/Rome;VALUE=DATE:20250604
DTEND;TZID=Europe/Rome;VALUE=DATE:20250606
DTSTAMP:20250528T131110Z
URL:https://www.nbsitalyhub.it/en/eventi/nature-based-solutions-conference
 /
SUMMARY:Nature-based Solutions Conference
DESCRIPTION:On June 4th and 5th\, 2025\, at the Dundalk Institute of Techno
 logy (Dundalk\, Ireland)\, the Nature-based Solutions Conference will take
  place\, a two-day event dedicated to the large-scale dissemination and in
 tegration of NbS for the protection and restoration of urban\, rural\, coa
 stal\, and riverine environments. The conference will bring together inter
 national experts to share practical approaches\, cutting-edge research\, a
 nd concrete applications of NbS.\n\nThe first day will focus on innovative
  strategies\, successful case studies\, and effective policies for integra
 ting NbS in different territorial contexts. The second day will feature in
 teractive workshops and masterclasses on specific topics such as NbS appli
 cations in urban settings\, river restoration\, and regeneration of coasta
 l areas and seagrass meadows\, offering practical tools for professionals 
 and sector operators.\n\nRegistration is required. The event will also be 
 available via live streaming\, with the link provided one week prior.\n\nF
 or more information\, please visit the official website.
ATTACH;FMTTYPE=image/jpeg:https://www.nbsitalyhub.it/wp-content/uploads/20
 25/05/2025_Nature-Based-Solutions-Conference.jpg
CATEGORIES:NbS-themed events
LOCATION:Dundalk Institute of Technology\, Co. Louth\, A91  \, Dundalk\, K5
 84\, Ireland
X-APPLE-STRUCTURED-LOCATION;VALUE=URI;X-ADDRESS=Co. Louth\, A91  \, Dundalk
 \, K584\, Ireland;X-APPLE-RADIUS=100;X-TITLE=Dundalk Institute of Technolo
 gy:geo:0,0
END:VEVENT
BEGIN:VTIMEZONE
TZID:Europe/Rome
X-LIC-LOCATION:Europe/Rome
BEGIN:DAYLIGHT
DTSTART:20250330T030000
TZOFFSETFROM:+0100
TZOFFSETTO:+0200
TZNAME:CEST
END:DAYLIGHT
END:VTIMEZONE
END:VCALENDAR