BEGIN:VCALENDAR
VERSION:2.0
PRODID:-//wp-events-plugin.com//7.2.3.1//EN
TZID:Europe/Rome
X-WR-TIMEZONE:Europe/Rome
BEGIN:VEVENT
UID:245@nbsitalyhub.it
DTSTART;TZID=Europe/Rome;VALUE=DATE:20250625
DTEND;TZID=Europe/Rome;VALUE=DATE:20250626
DTSTAMP:20250618T074713Z
URL:https://www.nbsitalyhub.it/en/eventi/nature-based-solutions-connecting
 -science-and-practice-workshop/
SUMMARY:Nature-based Solutions: Connecting Science and Practice | workshop
DESCRIPTION:As part of the 41st World Congress of the International Associa
 tion for Hydro-Environment Engineering and Research (IAHR)\, which will be
  held in Singapore from June 22 to 27\, the workshop “Nature-based Solut
 ions: Connecting Science and Practice” is scheduled for Wednesday\, June
  25\, 2025\, from 2:00 PM to 3:30 PM in Room 13.\n\nThe theme of the 2025 
 IAHR Congress\, “Innovative Water Engineering for Sustainable Developmen
 t\,” aims to promote interdisciplinary dialogue\, the exchange of cuttin
 g-edge knowledge\, and the exploration of innovative solutions to tackle t
 he most pressing global water resource management challenges.\n\nIn this c
 ontext\, the workshop will provide an interactive platform focused on NbS 
 (Nature-based Solutions) and their application\, highlighting key factors 
 for successful implementation\, including funding\, governance\, and co-de
 sign processes and stages. Through the analysis of case studies—such as 
 Bishan Park in Singapore\, the Severn Valley\, and Project Groundwater in 
 the United Kingdom—participants will gain deeper insight into the operat
 ional and strategic dynamics behind the planning and execution of these in
 itiatives.\n\nThe session will actively involve participants and offer an 
 opportunity to reflect on the importance of stakeholder engagement\, the d
 esign and development phases of NbS\, and the efforts required to ensure t
 heir effectiveness. It will also serve as a moment to share pioneering exp
 eriences and research\, aiming to strengthen the connection between scient
 ific research and field practice.\n\nFor more information\, please visit t
 he official website.\n\n&nbsp\;
ATTACH;FMTTYPE=image/jpeg:https://www.nbsitalyhub.it/wp-content/uploads/20
 25/05/2025_Nature-Based-Solutions-Connecting-Science-and-Practice-Workshop
 .jpg
CATEGORIES:NbS-themed events
LOCATION:Singapore EXPO\, 1 Expo Dr\, Singapore \, 486150\, China
X-APPLE-STRUCTURED-LOCATION;VALUE=URI;X-ADDRESS=1 Expo Dr\, Singapore \, 48
 6150\, China;X-APPLE-RADIUS=100;X-TITLE=Singapore EXPO:geo:0,0
END:VEVENT
BEGIN:VTIMEZONE
TZID:Europe/Rome
X-LIC-LOCATION:Europe/Rome
BEGIN:DAYLIGHT
DTSTART:20250330T030000
TZOFFSETFROM:+0100
TZOFFSETTO:+0200
TZNAME:CEST
END:DAYLIGHT
END:VTIMEZONE
END:VCALENDAR