BEGIN:VCALENDAR
VERSION:2.0
PRODID:-//wp-events-plugin.com//7.2.3.1//EN
TZID:Europe/Rome
X-WR-TIMEZONE:Europe/Rome
BEGIN:VEVENT
UID:66@nbsitalyhub.it
DTSTART:20240926T070000Z
DTEND:20240926T110000Z
DTSTAMP:20240905T132310Z
URL:https://www.nbsitalyhub.it/en/eventi/nature-based-solutions-education-
 summit-2024/
SUMMARY:Nature-based Solutions Education Summit
DESCRIPTION:26 settembre 2024 - NBS Education Summit 2024\, Bruxelles (Belg
 io) e online. Il primo NBS Education Summit organizzato dal progetto Horiz
 on Europe NBS EduWORLD. Basandosi su una serie di workshop NBS EduCommunit
 y\, questo summit mira a presentare i risultati provvisori e finali del pr
 ogetto e a stimolare le discussioni tra esperti di NbS\, educatori e respo
 nsabili politici a livello europeo\, nazionale e regionale/locale.
ATTACH;FMTTYPE=image/jpeg:https://www.nbsitalyhub.it/wp-content/uploads/20
 24/09/GVV1xelW8AA2LPM-1024x576-1.jpg
LOCATION:https://events.teams.microsoft.com/event/1e5589c7-4990-4145-9e03-0
 dc7d339c906@0de12ae4-52f7-437d-880e-18bdf140de7e
END:VEVENT
END:VCALENDAR