BEGIN:VCALENDAR
VERSION:2.0
PRODID:-//wp-events-plugin.com//7.2.3.1//EN
TZID:Europe/Rome
X-WR-TIMEZONE:Europe/Rome
BEGIN:VEVENT
UID:26@nbsitalyhub.it
DTSTART;TZID=Europe/Rome;VALUE=DATE:20230911
DTEND;TZID=Europe/Rome;VALUE=DATE:20230912
DTSTAMP:20241216T101755Z
URL:https://www.nbsitalyhub.it/en/eventi/nature-based-solutions-for-biodiv
 ersity-human-well-being-and-transformative-change/
SUMMARY:Nature-based solutions for biodiversity\, human well-being and tran
 sformative change
DESCRIPTION:Biodiversa+ is pleased to announce that its BiodivNBS Call for 
 Transnational Research Proposals on “Nature-Based Solutions (NbS) for bi
 odiversity\, human well-being and transformative change” (referred to as
  BiodivNbS) is now open.
ATTACH;FMTTYPE=image/jpeg:https://www.nbsitalyhub.it/wp-content/uploads/20
 24/05/Progetto-senza-titolo.png
CATEGORIES:NbS co-organized events
END:VEVENT
BEGIN:VTIMEZONE
TZID:Europe/Rome
X-LIC-LOCATION:Europe/Rome
BEGIN:DAYLIGHT
DTSTART:20230326T030000
TZOFFSETFROM:+0100
TZOFFSETTO:+0200
TZNAME:CEST
END:DAYLIGHT
END:VTIMEZONE
END:VCALENDAR