BEGIN:VCALENDAR
VERSION:2.0
PRODID:-//wp-events-plugin.com//7.2.3.1//EN
TZID:Europe/Rome
X-WR-TIMEZONE:Europe/Rome
BEGIN:VEVENT
UID:272@nbsitalyhub.it
DTSTART;TZID=Europe/Rome;VALUE=DATE:20251001
DTEND;TZID=Europe/Rome;VALUE=DATE:20251101
DTSTAMP:20250618T074514Z
URL:https://www.nbsitalyhub.it/en/eventi/nature-based-solutions-to-global-
 challenges-online-course/
SUMMARY:Nature-based Solutions to Global Challenges | Online Course
DESCRIPTION:The course "Nature-Based Solutions to Global Challenges" is an 
 online training program that lasts 8 weeks\, with a commitment of approxim
 ately 4 hours per week\, to be held via Microsoft Teams starting in Octobe
 r 2025. It is designed for professionals from various sectors\, particular
 ly NGO staff\, business leaders\, public officials\, regulators\, investor
 s\, and philanthropists interested in understanding how Nature-Based Solut
 ions (NbS) can effectively address global challenges such as climate chang
 e\, biodiversity loss\, and food and water security\, while also providing
  social and economic benefits.\nThe course is structured to provide an in-
 depth introduction to NbS\, based on scientific evidence and practical exa
 mples from international case studies. Lectures are delivered by world-ren
 owned experts\, including faculty from the University of Oxford and other 
 prestigious institutions\, and feature a combination of theoretical presen
 tations\, interactive sessions\, and practical discussions. Active partici
 pation is essential to gain the most from the program.\nThis course offers
  a valuable opportunity for those wishing to acquire up-to-date knowledge 
 and skills applicable to the design\, implementation\, and evaluation of s
 ustainable nature-based solutions\, using a multidisciplinary and integrat
 ed approach.\nTo register and for more information\, please fill out the f
 ollowing registration form.
ATTACH;FMTTYPE=image/jpeg:https://www.nbsitalyhub.it/wp-content/uploads/20
 25/06/Screenshot-2025-06-17-163823.png
CATEGORIES:NbS-themed events
LOCATION:https://forms.office.com/pages/responsepage.aspx?id=G96VzPWXk0-0uv
 5ouFLPkZx38gqfsjlFt6rXq_5cn05UN0NMQlo3SEY0NVRVTlpWRDRWVFBLTklYQy4u&route=s
 horturl
END:VEVENT
BEGIN:VTIMEZONE
TZID:Europe/Rome
X-LIC-LOCATION:Europe/Rome
BEGIN:DAYLIGHT
DTSTART:20250330T030000
TZOFFSETFROM:+0100
TZOFFSETTO:+0200
TZNAME:CEST
END:DAYLIGHT
BEGIN:STANDARD
DTSTART:20251026T020000
TZOFFSETFROM:+0200
TZOFFSETTO:+0100
TZNAME:CET
END:STANDARD
END:VTIMEZONE
END:VCALENDAR