BEGIN:VCALENDAR
VERSION:2.0
PRODID:-//wp-events-plugin.com//7.2.3.1//EN
TZID:Europe/Rome
X-WR-TIMEZONE:Europe/Rome
BEGIN:VEVENT
UID:247@nbsitalyhub.it
DTSTART;TZID=Europe/Rome;VALUE=DATE:20250625
DTEND;TZID=Europe/Rome;VALUE=DATE:20250627
DTSTAMP:20250528T131435Z
URL:https://www.nbsitalyhub.it/en/eventi/nature-first-conference/
SUMMARY:Nature FIRST Conference
DESCRIPTION:The Nature FIRST Conference\, scheduled for June 25th and 26th\
 , 2025 at Ouwehands Dierenpark in Rhenen (The Netherlands)\, marks the con
 clusion of the European project Nature FIRST. The event is intended as a m
 eeting point for researchers\, professionals\, policymakers\, and organiza
 tions\, offering an inclusive space for launching new collaborations\, exc
 hanging knowledge\, and developing shared strategies for biodiversity cons
 ervation. It will be an opportunity to inspire new ideas and synergies in 
 the field of environmental conservation.\n\nOrganized in collaboration wit
 h Bears in Mind\, a Dutch foundation dedicated to bear protection\, the co
 nference will take place in the remarkable Het Berenbos\, the bear sanctua
 ry located within the zoo.\n\nThe Nature FIRST Conference will address key
  topics related to biodiversity conservation\, including environmental mon
 itoring and the use of new technologies for habitat protection. Participan
 ts will be able to explore innovative methodologies\, join hands-on worksh
 ops\, initiate new partnerships\, and engage in discussions on emerging is
 sues—with the added opportunity to visit the zoo and take part in on-sit
 e experiences.\n\nThe two-day event will feature interactive activities\, 
 exhibition spaces\, matchmaking sessions\, and moments of strategic dialog
 ue.\n\nFor more information\, please visit the official website.\n\n&nbsp\
 ;
ATTACH;FMTTYPE=image/jpeg:https://www.nbsitalyhub.it/wp-content/uploads/20
 25/05/2025_NatureFIRST-Final-Conference.png
CATEGORIES:NbS-themed events
LOCATION:Ouwehands Dierenpark\, Grebbeweg 111\, Rhenen\, 3911 \, Netherland
 s
X-APPLE-STRUCTURED-LOCATION;VALUE=URI;X-ADDRESS=Grebbeweg 111\, Rhenen\, 39
 11 \, Netherlands;X-APPLE-RADIUS=100;X-TITLE=Ouwehands Dierenpark:geo:0,0
END:VEVENT
BEGIN:VTIMEZONE
TZID:Europe/Rome
X-LIC-LOCATION:Europe/Rome
BEGIN:DAYLIGHT
DTSTART:20250330T030000
TZOFFSETFROM:+0100
TZOFFSETTO:+0200
TZNAME:CEST
END:DAYLIGHT
END:VTIMEZONE
END:VCALENDAR