BEGIN:VCALENDAR
VERSION:2.0
PRODID:-//wp-events-plugin.com//7.2.3.1//EN
TZID:Europe/Rome
X-WR-TIMEZONE:Europe/Rome
BEGIN:VEVENT
UID:285@nbsitalyhub.it
DTSTART;TZID=Europe/Rome;VALUE=DATE:20250708
DTEND;TZID=Europe/Rome;VALUE=DATE:20250709
DTSTAMP:20250701T134313Z
URL:https://www.nbsitalyhub.it/en/eventi/nbs-italy-annual-meeting-online/
SUMMARY:NbS Italy Annual Meeting Online
DESCRIPTION:[block id="nbs-annual-meeting-online"]
ATTACH;FMTTYPE=image/jpeg:https://www.nbsitalyhub.it/wp-content/uploads/20
 25/07/savethedate-8-9-scaled-1.webp
CATEGORIES:NbS co-organized events
END:VEVENT
BEGIN:VTIMEZONE
TZID:Europe/Rome
X-LIC-LOCATION:Europe/Rome
BEGIN:DAYLIGHT
DTSTART:20250330T030000
TZOFFSETFROM:+0100
TZOFFSETTO:+0200
TZNAME:CEST
END:DAYLIGHT
END:VTIMEZONE
END:VCALENDAR