BEGIN:VCALENDAR
VERSION:2.0
PRODID:-//wp-events-plugin.com//7.2.3.1//EN
TZID:Europe/Rome
X-WR-TIMEZONE:Europe/Rome
BEGIN:VEVENT
UID:241@nbsitalyhub.it
DTSTART;TZID=Europe/Rome;VALUE=DATE:20250605
DTEND;TZID=Europe/Rome;VALUE=DATE:20250606
DTSTAMP:20250528T131213Z
URL:https://www.nbsitalyhub.it/en/eventi/varcities-final-event-shaping-gre
 ener-healthier-cities/
SUMMARY:VARCITIES final event - Shaping Greener\, Healthier Cities!
DESCRIPTION:As part of EU Green Week\, the final event of the European proj
 ect VARCITIES will take place on June 5th\, 2025\, at the Centre for Infor
 mation\, Documentation and Exhibitions (CIVA) in Brussels. The event will 
 be an opportunity to share the project’s results and to reflect on the f
 uture of urban sustainability in Europe.\n\nDuring the event\, the outcome
 s of activities carried out in seven pilot cities\, where innovative solut
 ions were developed and tested to improve quality of life and health in ur
 ban environments\, will be presented. The Replication Toolkit will also be
  introduced\, a tool designed to support other cities in adopting the solu
 tions developed by VARCITIES.\n\nA roundtable with experts will provide a 
 space for discussion on how to design greener\, healthier\, and more inclu
 sive cities. The event will also feature networking sessions and an intera
 ctive exhibition area. Additional presentations will address the European 
 policy framework and how the project aligns with the EU’s Climate-Neutra
 l and Smart Cities agenda. The day will conclude with a visit to the Leuve
 n pilot site.\n\nThe event is open to professionals\, researchers\, and ci
 tizens interested in promoting a more sustainable urban future.\n\nFor mor
 e information\, please visit the official website.\n\n \n\n&nbsp\;\n\n&nb
 sp\;\n\n&nbsp\;
ATTACH;FMTTYPE=image/jpeg:https://www.nbsitalyhub.it/wp-content/uploads/20
 25/05/2025_VARCITIES-FINAL-EVENT-Shaping-Greener-Healthier-Cities.png
CATEGORIES:NbS-themed events
LOCATION:CIVA\, Bruxelles\, Rue de l'Ermitage 55\, Ixelles\, 1050\, Belgium
X-APPLE-STRUCTURED-LOCATION;VALUE=URI;X-ADDRESS=Rue de l'Ermitage 55\, Ixel
 les\, 1050\, Belgium;X-APPLE-RADIUS=100;X-TITLE=CIVA\, Bruxelles:geo:0,0
END:VEVENT
BEGIN:VTIMEZONE
TZID:Europe/Rome
X-LIC-LOCATION:Europe/Rome
BEGIN:DAYLIGHT
DTSTART:20250330T030000
TZOFFSETFROM:+0100
TZOFFSETTO:+0200
TZNAME:CEST
END:DAYLIGHT
END:VTIMEZONE
END:VCALENDAR