BEGIN:VCALENDAR
VERSION:2.0
PRODID:-//wp-events-plugin.com//7.2.3.1//EN
TZID:Europe/Rome
X-WR-TIMEZONE:Europe/Rome
BEGIN:VEVENT
UID:164@nbsitalyhub.it
DTSTART;TZID=Europe/Rome:20241219T090000
DTEND;TZID=Europe/Rome:20241219T133000
DTSTAMP:20241216T100520Z
URL:https://www.nbsitalyhub.it/en/eventi/xix-workshop-of-the-silva-mediter
 ranea-wg-on-upf/
SUMMARY:XIX Workshop of the Silva Mediterranea WG on UPF
DESCRIPTION:Save the Date: 21 December 2022 from 9.00 to 13.30\nThe main o
 bjective of the meeting is to revise the priority areas of work of the wor
 king groups for 2023\, and discuss the contribution that they could give t
 o the upcoming 2nd WFUF\, to be held in Washington D.C. in October 2023.\
 n\nThe workshop will be opened by the Webinar Urban forestry and urban gr
 eening in drylands organized for the launch of the FAO publication “Urb
 an forestry and urban greening in drylands: improving resilience\, health\
 , and wellbeing of urban communities”\, developed by FAO Forestry in the
  framework of the Green Urban Oases Programme\, launched by FAO in 2021\, 
 to support dryland cities in Africa\, Near East and Asia\, strengthen thei
 r policy and technical capacity to design and implement integrated urban f
 orestry and urban greening strategies to address local challenges and sust
 ainably increase the well-being and resilience of their urban communities.
 \n\nThe webinar is organized in the framework of the Silva Mediterranea Tr
 eeCities4MED Webinar series. Registrations at the following link: https://
 fao.zoom.us/meeting/register/tJcrcemrrDMoHNd_4QoySyTItAoI2eKZEEQd#/registr
 ation\n\nProgramme\n• Introduction – by Simone Borelli\, Urban Forestr
 y Officer\, FAO\n• Dryland forests – by Anders Malmer\, Adjunct Profes
 sor\, Swedish University of Agricultural Sciences\,\nChair of the COFO Wor
 king Group on Dryland Forests and agrosilvopastoralsystems\n• From urban
  desert to forest cities: is that the way? – by Fabio Salbitano\, Profes
 sor\, University of\nFlorence\; SISEF Member\, FAO Senior Forestry expert\
 , Italy\n• Challenges and opportunities for UPF in Amman\, Jordan – by
  Maher Jamal Tadros\, Professor\, Jordan\nUniversity of Science and Techno
 logy\; FAO Forestry expert\, Amman\, Jordan.\n• Challenges and opportuni
 ties for UPF in Tunis\, Tunisia – by Maher Ben Abdallah\, Executive Mana
 ging\nDirector\, URBA.DEV\; FAO Forestry expert\, Tunis\, Tunisia\n• Lau
 nch of the publication “Urban forestry and urban greening in drylands: i
 mproving resilience\, health\,\nand wellbeing of urban communities” – 
 by Simone Borelli\, Urban Forestry Officer\, FAO
ATTACH;FMTTYPE=image/jpeg:https://www.nbsitalyhub.it/wp-content/uploads/20
 24/12/8.png
CATEGORIES:NbS-themed events
LOCATION:https://fao.zoom.us/meeting/register/tJcrcemrrDMoHNd_4QoySyTItAoI2
 eKZEEQd#/registration
END:VEVENT
BEGIN:VTIMEZONE
TZID:Europe/Rome
X-LIC-LOCATION:Europe/Rome
BEGIN:STANDARD
DTSTART:20241027T020000
TZOFFSETFROM:+0200
TZOFFSETTO:+0100
TZNAME:CET
END:STANDARD
END:VTIMEZONE
END:VCALENDAR