BEGIN:VCALENDAR
VERSION:2.0
PRODID:-//wp-events-plugin.com//7.2.3.1//EN
TZID:Europe/Rome
X-WR-TIMEZONE:Europe/Rome
BEGIN:VEVENT
UID:281@nbsitalyhub.it
DTSTART;TZID=Europe/Rome:20250702T140000
DTEND;TZID=Europe/Rome:20250702T140000
DTSTAMP:20250630T112815Z
URL:https://www.nbsitalyhub.it/eventi/adapting-transport-infrastructure-by
 -mip4adapt/
SUMMARY:Adapting Transport Infrastructure by MIP4Adapt
DESCRIPTION:Esplora come i sistemi stradali e di trasporto pubblico possano
  essere adattati in modo efficace per resistere agli impatti climatici in 
 questa sessione coinvolgente. Scopri le strategie chiave per identificare 
 le vulnerabilità\, pianificare risposte mirate e rafforzare la resilienza
  complessiva dei trasporti. Ascolta direttamente dagli esperti esempi conc
 reti di misure di adattamento a eventi climatici estremi\, alluvioni e str
 ess da calore. Ottieni indicazioni pratiche su strumenti e approcci utili 
 a rendere le infrastrutture di trasporto più resilienti e a garantire la 
 continuità del servizio in un clima in cambiamento.\n\nUn’opportunità 
 preziosa per entrare in contatto con altri professionisti\, approfondire l
 a tua comprensione dell’adattamento dei trasporti e applicare strategie 
 già collaudate al contesto locale.\n\nL'evento si svolgerà mercoledì 2 
 luglio ONLINE. Per partecipare\, iscriversi a questo link: https://us02web
 .zoom.us/meeting/register/Kda0yXl_RC2oHptWXYSRAw#/registration
ATTACH;FMTTYPE=image/jpeg:https://www.nbsitalyhub.it/wp-content/uploads/20
 25/06/a59c5e2d-d36f-4186-b15d-02e174c8db91.jpg
CATEGORIES:Eventi a tema NbS
END:VEVENT
BEGIN:VTIMEZONE
TZID:Europe/Rome
X-LIC-LOCATION:Europe/Rome
BEGIN:DAYLIGHT
DTSTART:20250330T030000
TZOFFSETFROM:+0100
TZOFFSETTO:+0200
TZNAME:CEST
END:DAYLIGHT
END:VTIMEZONE
END:VCALENDAR