BEGIN:VCALENDAR
VERSION:2.0
PRODID:-//wp-events-plugin.com//7.2.3.1//EN
TZID:Europe/Rome
X-WR-TIMEZONE:Europe/Rome
BEGIN:VEVENT
UID:265@nbsitalyhub.it
DTSTART;TZID=Europe/Rome:20250623T150000
DTEND;TZID=Europe/Rome:20250623T163000
DTSTAMP:20250618T071945Z
URL:https://www.nbsitalyhub.it/eventi/competenze-verdi-per-un-futuro-resil
 iente-potenziare-le-soluzioni-basate-sulla-natura/
SUMMARY:Competenze verdi per un futuro resiliente: Potenziare le soluzioni 
 basate sulla natura
DESCRIPTION:L’incontro si terrà online il 23 giugno 2025\, dalle 15:00 a
 lle 16:30 ed esplorerà il ruolo fondamentale delle competenze verdi richi
 este per progettare\, implementare e mantenere con successo le Nature-base
 d Solutions nelle aree urbane. Saranno approfondite le strategie di formaz
 ione e il contributo dell’istruzione alla diffusione su larga scala dell
 e NbS\, presentando esempi concreti e casi studio reali.\n\nL'evento è or
 ganizzato nell'ambito del progetto Horizon Europe NBS EduWORLD\, e vedrà 
 la partecipazione di esperti provenienti da ambiti quali l’educazione\, 
 la pubblica amministrazione e il settore privato. In programma presentazio
 ni\, discussioni interattive e spunti concreti per attivare una forza lavo
 ro transdisciplinare\, in grado di supportare l’adozione delle NbS nelle
  città.\n\nCompila il modulo di registrazione qui per ricevere il link di
  partecipazione al webinar.
ATTACH;FMTTYPE=image/jpeg:https://www.nbsitalyhub.it/wp-content/uploads/20
 25/06/2025_NBS-WEBINAR-EDUWORLD.jpg
CATEGORIES:Eventi a tema NbS
LOCATION:https://nbseduworld.eu/events?c=search&uid=D5wJ1360
END:VEVENT
BEGIN:VTIMEZONE
TZID:Europe/Rome
X-LIC-LOCATION:Europe/Rome
BEGIN:DAYLIGHT
DTSTART:20250330T030000
TZOFFSETFROM:+0100
TZOFFSETTO:+0200
TZNAME:CEST
END:DAYLIGHT
END:VTIMEZONE
END:VCALENDAR