BEGIN:VCALENDAR
VERSION:2.0
PRODID:-//wp-events-plugin.com//7.2.3.1//EN
TZID:Europe/Rome
X-WR-TIMEZONE:Europe/Rome
BEGIN:VEVENT
UID:273@nbsitalyhub.it
DTSTART;TZID=Europe/Rome;VALUE=DATE:20250910
DTEND;TZID=Europe/Rome;VALUE=DATE:20250912
DTSTAMP:20250618T082209Z
URL:https://www.nbsitalyhub.it/eventi/conferenza-internazionale-sullo-svil
 uppo-sostenibile/
SUMMARY:Conferenza internazionale sullo sviluppo sostenibile
DESCRIPTION:La Conferenza Internazionale sullo Sviluppo Sostenibile (ICSD)\
 , giunta alla sua 13ª edizione\, è promossa dal Centro Europeo per lo Sv
 iluppo Sostenibile in collaborazione con la CIT University. Si svolgerà a
  Roma il 10 e 11 settembre 2025\, presso il centro congressi Roma Eventi (
 Piazza della Pilotta 4)\, all’interno della Pontificia Università Grego
 riana\, a pochi passi dalla Fontana di Trevi.\n\nLa conferenza si propone 
 come piattaforma globale di dialogo\, ricerca e formazione\, affrontando l
 e sfide ambientali\, economiche e sociali che definiscono l’Agenda dello
  Sviluppo Sostenibile. Il tema scelto per questa edizione\, "Creare una ba
 se unificata per lo Sviluppo Sostenibile: ricerca\, pratica ed educazione"
 \, riflette la volontà di integrare la conoscenza scientifica con l’azi
 one concreta e l’impegno educativo.\n\nLa ICSD 2025 mira a promuovere un
  approccio multidisciplinare\, favorendo l’incontro tra studiosi\, profe
 ssionisti\, educatori e decisori politici. In un contesto accademico di re
 spiro internazionale\, si discuteranno approcci e soluzioni innovative per
  un futuro più equo\, resiliente e sostenibile.\n\nLa partecipazione alla
  Conferenza è aperta a ricercatori\, docenti\, professionisti\, studenti 
 e decisori politici interessati ai temi dello sviluppo sostenibile. È pos
 sibile presentare un abstract per un contributo scientifico o partecipare 
 come uditori.\n\nPer proporre un intervento\, è necessario inviare un abs
 tract entro il 30 luglio 2025 attraverso la piattaforma ufficiale della co
 nferenza. Gli abstract accettati saranno inclusi negli atti del convegno. 
 È prevista anche la possibilità di pubblicazione dei paper selezionati i
 n riviste scientifiche indicizzate.\n\nLa partecipazione può avvenire in 
 presenza a Roma o online. Tutte le informazioni aggiornate su modalità di
  iscrizione\, scadenze e costi sono disponibili sul sito ufficiale della c
 onferenza.
ATTACH;FMTTYPE=image/jpeg:https://www.nbsitalyhub.it/wp-content/uploads/20
 25/06/2025_-ICSD-2025.jpg
CATEGORIES:Eventi a tema NbS
LOCATION:centro congressi Roma Eventi\, Piazza della Pilotta 4\, Roma\, Ita
 lia
X-APPLE-STRUCTURED-LOCATION;VALUE=URI;X-ADDRESS=Piazza della Pilotta 4\, Ro
 ma\, Italia;X-APPLE-RADIUS=100;X-TITLE=centro congressi Roma Eventi:geo:0,
 0
END:VEVENT
BEGIN:VTIMEZONE
TZID:Europe/Rome
X-LIC-LOCATION:Europe/Rome
BEGIN:DAYLIGHT
DTSTART:20250330T030000
TZOFFSETFROM:+0100
TZOFFSETTO:+0200
TZNAME:CEST
END:DAYLIGHT
END:VTIMEZONE
END:VCALENDAR