BEGIN:VCALENDAR
VERSION:2.0
PRODID:-//wp-events-plugin.com//7.2.3.1//EN
TZID:Europe/Rome
X-WR-TIMEZONE:Europe/Rome
BEGIN:VEVENT
UID:246@nbsitalyhub.it
DTSTART;TZID=Europe/Rome;VALUE=DATE:20250625
DTEND;TZID=Europe/Rome;VALUE=DATE:20250627
DTSTAMP:20250528T131457Z
URL:https://www.nbsitalyhub.it/eventi/conferenza-nature-first/
SUMMARY:Conferenza Nature FIRST
DESCRIPTION:La Nature FIRST Conference\, in programma il 25 e 26 giugno 202
 5 presso Ouwehands Dierenpark a Rhenen (Paesi Bassi)\, segna la conclusion
 e del progetto europeo Nature FIRST. L’evento si propone come un momento
  di incontro tra ricercatori\, professionisti\, decisori politici e organi
 zzazioni\, offrendo uno spazio inclusivo per l’avvio di nuove collaboraz
 ioni\, lo scambio di conoscenze e lo sviluppo di strategie condivise per l
 a tutela della biodiversità. Sarà un’occasione per ispirare nuove idee
  e sinergie nel campo della conservazione ambientale.\n\nOrganizzata in co
 llaborazione con Bears in Mind\, fondazione olandese attiva nella protezio
 ne degli orsi\, la conferenza si svolgerà all’interno del suggestivo He
 t Berenbos\, il santuario per orsi ospitato nel parco zoologico.\n\nLa Nat
 ure FIRST Conference affronterà temi chiave legati alla conservazione del
 la biodiversità\, tra cui il monitoraggio ambientale e l’utilizzo di nu
 ove tecnologie per la tutela degli habitat. I partecipanti potranno esplor
 are metodologie innovative\, partecipare a workshop pratici\, avviare nuov
 e collaborazioni e confrontarsi su temi emergenti\, con l'opportunità di 
 visitare il parco zoologico e vivere esperienze sul campo.\n\nL’evento o
 ffrirà due giornate ricche di attività interattive\, spazi espositivi\, 
 sessioni di matchmaking e momenti di confronto strategico.\n\nPer maggiori
  informazioni visita il sito ufficiale.
ATTACH;FMTTYPE=image/jpeg:https://www.nbsitalyhub.it/wp-content/uploads/20
 25/05/2025_NatureFIRST-Final-Conference.png
CATEGORIES:Eventi a tema NbS
LOCATION:Ouwehands Dierenpark\, Grebbeweg 111\, Rhenen\, 3911 \, Paesi Bass
 i
X-APPLE-STRUCTURED-LOCATION;VALUE=URI;X-ADDRESS=Grebbeweg 111\, Rhenen\, 39
 11 \, Paesi Bassi;X-APPLE-RADIUS=100;X-TITLE=Ouwehands Dierenpark:geo:0,0
END:VEVENT
BEGIN:VTIMEZONE
TZID:Europe/Rome
X-LIC-LOCATION:Europe/Rome
BEGIN:DAYLIGHT
DTSTART:20250330T030000
TZOFFSETFROM:+0100
TZOFFSETTO:+0200
TZNAME:CEST
END:DAYLIGHT
END:VTIMEZONE
END:VCALENDAR