BEGIN:VCALENDAR
VERSION:2.0
PRODID:-//wp-events-plugin.com//7.2.3.1//EN
TZID:Europe/Rome
X-WR-TIMEZONE:Europe/Rome
BEGIN:VEVENT
UID:238@nbsitalyhub.it
DTSTART;TZID=Europe/Rome;VALUE=DATE:20250604
DTEND;TZID=Europe/Rome;VALUE=DATE:20250606
DTSTAMP:20250528T130923Z
URL:https://www.nbsitalyhub.it/eventi/conferenza-sulle-nature-based-soluti
 ons/
SUMMARY:Conferenza sulle Nature-based Solutions
DESCRIPTION:Il 4 e 5 giugno 2025\, presso il Dundalk Institute of Technolog
 y (Dundalk\, Irlanda)\, si terrà la Nature-based Solutions Conference\, u
 n evento di due giorni dedicato alla diffusione ed integrazione su larga s
 cala delle NbS per la protezione e il ripristino degli ambienti urbani\, r
 urali\, costieri e fluviali. La conferenza riunirà esperti internazionali
  per condividere approcci pratici\, ricerche all’avanguardia e applicazi
 oni concrete delle NbS.\n\nLa prima giornata sarà incentrata su strategie
  innovative\, casi studio di successo e politiche di integrazione efficaci
  delle NbS in diversi contesti territoriali. Il secondo giorno prevederà 
 workshop interattivi e masterclass su temi specifici quali applicazione di
  NbS in contesti urbani\, ripristino fluviale e rigenerazione delle aree c
 ostiere e delle praterie marine\, offrendo strumenti pratici per professio
 nisti e operatori del settore.\n\nLa partecipazione è a iscrizione obblig
 atoria. L’evento sarà disponibile anche in diretta streaming\, con il l
 ink fornito una settimana prima.\n\nPer maggiori informazioni consulta il 
 sito ufficiale
ATTACH;FMTTYPE=image/jpeg:https://www.nbsitalyhub.it/wp-content/uploads/20
 25/05/2025_Nature-Based-Solutions-Conference.jpg
CATEGORIES:Eventi a tema NbS
LOCATION:Dundalk Institute of Technology\, Co. Louth\, A91  \, Dundalk\, K5
 84\, Irlanda
X-APPLE-STRUCTURED-LOCATION;VALUE=URI;X-ADDRESS=Co. Louth\, A91  \, Dundalk
 \, K584\, Irlanda;X-APPLE-RADIUS=100;X-TITLE=Dundalk Institute of Technolo
 gy:geo:0,0
END:VEVENT
BEGIN:VTIMEZONE
TZID:Europe/Rome
X-LIC-LOCATION:Europe/Rome
BEGIN:DAYLIGHT
DTSTART:20250330T030000
TZOFFSETFROM:+0100
TZOFFSETTO:+0200
TZNAME:CEST
END:DAYLIGHT
END:VTIMEZONE
END:VCALENDAR