BEGIN:VCALENDAR
VERSION:2.0
PRODID:-//wp-events-plugin.com//7.2.3.1//EN
TZID:Europe/Rome
X-WR-TIMEZONE:Europe/Rome
BEGIN:VEVENT
UID:236@nbsitalyhub.it
DTSTART;TZID=Europe/Rome;VALUE=DATE:20250603
DTEND;TZID=Europe/Rome;VALUE=DATE:20250608
DTSTAMP:20250528T130701Z
URL:https://www.nbsitalyhub.it/eventi/european-forum-on-urban-forestry/
SUMMARY:European Forum on Urban Forestry
DESCRIPTION:Dal 3 al 7 giugno 2025\, Zurigo (Svizzera) ospiterà la 27esima
  edizione dell'European Forum on Urban Forestry (EFUF2025)\, un appuntamen
 to internazionale dedicato alle politiche di pianificazione e gestione del
 le foreste urbane.\n\nOrganizzato da Città di Zurigo\, ETH Zurigo\, WSL\,
  Waldlabor Zurich\, ArboCityNet e Università delle Scienze Applicate di B
 erna\, il forum affronterà il tema “Foreste urbane per città resilient
 i e sane”\, esplorando soluzioni innovative per promuovere la sostenibil
 ità e la salute degli ambienti urbani.\n\nL’evento\, che si svolgerà p
 resso ETH Zurich\, prevede momenti di confronto\, networking e due giornat
 e di escursioni dedicate alla natura urbana.\n\nEFUF2025 sarà affiancato 
 da un workshop intitolato “Increasing biodiversity to promote adaptation
  and resilience of European Forests by using close-to-nature forestry”\,
  volto a discutere e valutare approcci integrati alla gestione forestale\,
  con l’obiettivo di supportare lo sviluppo di foreste più resilienti e 
 ricche di biodiversità.\n\nPer maggiori informazioni consulta il sito uff
 iciale.
ATTACH;FMTTYPE=image/jpeg:https://www.nbsitalyhub.it/wp-content/uploads/20
 25/05/2025_EFUF2025.png
CATEGORIES:Eventi a tema NbS
LOCATION:Politecnico federale di Zurigo\, Rämistrasse 101\, Zürich\, 8092
  \, Svizzera
X-APPLE-STRUCTURED-LOCATION;VALUE=URI;X-ADDRESS=Rämistrasse 101\, Zürich\
 , 8092 \, Svizzera;X-APPLE-RADIUS=100;X-TITLE=Politecnico federale di Zuri
 go:geo:0,0
END:VEVENT
BEGIN:VTIMEZONE
TZID:Europe/Rome
X-LIC-LOCATION:Europe/Rome
BEGIN:DAYLIGHT
DTSTART:20250330T030000
TZOFFSETFROM:+0100
TZOFFSETTO:+0200
TZNAME:CEST
END:DAYLIGHT
END:VTIMEZONE
END:VCALENDAR