BEGIN:VCALENDAR
VERSION:2.0
PRODID:-//wp-events-plugin.com//7.2.3.1//EN
TZID:Europe/Rome
X-WR-TIMEZONE:Europe/Rome
BEGIN:VEVENT
UID:234@nbsitalyhub.it
DTSTART;TZID=Europe/Rome;VALUE=DATE:20250529
DTEND;TZID=Europe/Rome;VALUE=DATE:20250531
DTSTAMP:20250528T130525Z
URL:https://www.nbsitalyhub.it/eventi/international-conference-improving-n
 ature-smart-policies-through-innovative-resilient-evaluations/
SUMMARY:International Conference “Improving Nature-Smart Policies through
  Innovative Resilient Evaluations”
DESCRIPTION:Il 29 e 30 maggio 2025\, presso l’Aula Magna della Scuola Pol
 itecnica e delle Scienze di Base dell’Università degli Studi di Napoli 
 “Federico II”\, si terrà la conferenza internazionale intitolata “I
 mproving Nature-Smart Policies through Innovative Resilient Evaluations”
 .\nIn un contesto caratterizzato da crescenti pressioni antropiche\, la ne
 cessità di rigenerazione urbana sostenibile\, tutela dell’identità ter
 ritoriale\, contenimento dell'uso indiscriminato del suolo e valorizzazion
 e del patrimonio edilizio esistente rappresenta una sfida cruciale.\nQuest
 o evento si configura come un forum scientifico di alto profilo dedicato a
 llo sviluppo di metodologie avanzate di valutazione immobiliare\, finalizz
 ate a integrare criteri di sostenibilità ambientale\, economica e sociale
  nei processi decisionali di pianificazione urbana e territoriale. Partico
 lare attenzione è rivolta alla rigenerazione urbana\, alla valorizzazione
  dell’identità locale e alla sostenibilità come paradigma centrale per
  le trasformazioni territoriali e la progettazione urbana\, con l’obiett
 ivo di mitigare l’impatto ambientale.\nLa conferenza favorirà il confro
 nto interdisciplinare tra accademici\, ricercatori e professionisti di ril
 ievo\, con l’obiettivo di promuovere approcci resilienti e innovativi pe
 r governare le trasformazioni urbane in modo inclusivo e responsabile.\nLa
  partecipazione è gratuita e rivolta a studiosi\, operatori del settore e
  policy maker interessati.\nQuesto appuntamento rappresenta un’occasione
  fondamentale per contribuire allo sviluppo di politiche urbane innovative
  e coerenti con gli obiettivi dell’Agenda 2030 per lo sviluppo sostenibi
 le.\nPer maggiori informazioni e per il programma completo clicca qui
ATTACH;FMTTYPE=image/jpeg:https://www.nbsitalyhub.it/wp-content/uploads/20
 25/05/2025_Evento-Napoli-NbS.jpg
CATEGORIES:Eventi a tema NbS
LOCATION:Università degli Studi di Napoli Federico II\, Scuola Politecnica
  e delle Scienze di Base\, Piazzale Vincenzo Tecchio\, 80\, Napoli\, NA\, 
 80125\, Campania\, Italia
X-APPLE-STRUCTURED-LOCATION;VALUE=URI;X-ADDRESS=Piazzale Vincenzo Tecchio\,
  80\, Napoli\, NA\, 80125\, Campania\, Italia;X-APPLE-RADIUS=100;X-TITLE=U
 niversità degli Studi di Napoli Federico II\, Scuola Politecnica e delle 
 Scienze di Base:geo:0,0
END:VEVENT
BEGIN:VTIMEZONE
TZID:Europe/Rome
X-LIC-LOCATION:Europe/Rome
BEGIN:DAYLIGHT
DTSTART:20250330T030000
TZOFFSETFROM:+0100
TZOFFSETTO:+0200
TZNAME:CEST
END:DAYLIGHT
END:VTIMEZONE
END:VCALENDAR