BEGIN:VCALENDAR
VERSION:2.0
PRODID:-//wp-events-plugin.com//7.2.3.1//EN
TZID:Europe/Rome
X-WR-TIMEZONE:Europe/Rome
BEGIN:VEVENT
UID:242@nbsitalyhub.it
DTSTART;TZID=Europe/Rome;VALUE=DATE:20250616
DTEND;TZID=Europe/Rome;VALUE=DATE:20250618
DTSTAMP:20250528T131300Z
URL:https://www.nbsitalyhub.it/eventi/international-conference-on-environm
 ental-sustainability-and-climate-change/
SUMMARY:International Conference on Environmental Sustainability and Climat
 e Change
DESCRIPTION:Nei giorni 16 e 17 giugno 2025\, a Roma\, si terrà L’Interna
 tional Conference on Environmental Sustainability and Climate Change\, giu
 nta alla sua ottava edizione. Il tema dell’edizione 2025\, “Current Re
 search on Environmental Sustainability and Climate Change”\, si propone 
 di favorire un approccio integrato ai temi della sostenibilità\, attraver
 so l’interazione e lo scambio di esperienze e competenze nell’ambito d
 elle scienze ambientali e del cambiamento climatico.\n\nL’incontro offri
 rà un’opportunità unica per la creazione di reti scientifiche e per l
 ’elaborazione di visioni condivise su un futuro sostenibile\, in cui le 
 più recenti conoscenze e tecnologie saranno al centro delle strategie per
  la mitigazione e l’adattamento climatico. Saranno inoltre approfonditi 
 gli aspetti bioetici\, socio-economici e normativi legati alla sostenibili
 tà ambientale e al contributo delle biotecnologie alla protezione dell’
 ambiente.\n\nRelatori di fama internazionale presenteranno i più recenti 
 sviluppi in vari settori\, tra cui le scienze ambientali\, l’ecologia\, 
 la climatologia\, le energie rinnovabili e molto altro ancora.\n\nLa confe
 renza prevede sessioni plenarie e keynote\, interventi tematici\, forum pe
 r giovani ricercatori\, workshop\, simposi\, presentazioni video\, poster 
 ed e-poster\, oltre a spazi espositivi e incontri B2B.\n\nL’evento è ri
 volto ad un pubblico multidisciplinare composto da ricercatori\, docenti u
 niversitari\, studenti\, rappresentanti del settore delle industrie e dell
 e imprese.\n\nPer maggiori informazioni visita il sito ufficiale
ATTACH;FMTTYPE=image/jpeg:https://www.nbsitalyhub.it/wp-content/uploads/20
 25/05/2025_8th-International-Conference-on-Environmental-Sustainability-an
 d-Climate-Change.jpg
CATEGORIES:Eventi a tema NbS
LOCATION:Belstay Roma Aurelia\, Via Bogliasco\, 27\, Roma\, RM\, 00165\, It
 alia
X-APPLE-STRUCTURED-LOCATION;VALUE=URI;X-ADDRESS=Via Bogliasco\, 27\, Roma\,
  RM\, 00165\, Italia;X-APPLE-RADIUS=100;X-TITLE=Belstay Roma Aurelia:geo:0
 ,0
END:VEVENT
BEGIN:VTIMEZONE
TZID:Europe/Rome
X-LIC-LOCATION:Europe/Rome
BEGIN:DAYLIGHT
DTSTART:20250330T030000
TZOFFSETFROM:+0100
TZOFFSETTO:+0200
TZNAME:CEST
END:DAYLIGHT
END:VTIMEZONE
END:VCALENDAR