BEGIN:VCALENDAR
VERSION:2.0
PRODID:-//wp-events-plugin.com//7.2.3.1//EN
TZID:Europe/Rome
X-WR-TIMEZONE:Europe/Rome
BEGIN:VEVENT
UID:322@nbsitalyhub.it
DTSTART;TZID=Europe/Rome:20260526T000000
DTEND;TZID=Europe/Rome:20260526T000000
DTSTAMP:20251203T134556Z
URL:https://www.nbsitalyhub.it/eventi/nbs-day-more-than-just-nature%e2%80%
 91based-solutions/
SUMMARY:NBS Day – More than JUST Nature‑based Solutions
DESCRIPTION:\n\n\n\n\nNBS Day è una giornata interamente dedicata alle Nat
 ure‑based Solutions (NBS)\, con l’obiettivo di riunire ricercatori e p
 rofessionisti per discutere approcci innovativi all’implementazione\, go
 vernance e mainstreaming delle NBS. L’edizione 2026 si inserisce nel con
 testo più ampio del Symposium NMP\, dedicato ai sistemi insediativi in ar
 ee metropolitane e aree interne in un mondo in transizione. :contentRefere
 nce[oaicite:5]{index=5}\nTematiche principali\n\n 	Urban resilience\n 	Co
 ‑creazione nei Living Lab urbani\n 	Giustizia sociale\n\nSession Organiz
 ers\n\n 	Israa Mahmoud (Politecnico di Milano)\n 	Chiara Cortinovis (Unive
 rsity of Trento)\n 	Anna Giulia Castaldo (Politecnico di Milano)\n 	France
 sco Sica (Sapienza University)\n 	Luca Battisti &amp\; Davide Gianti (Univ
 ersity of Turin)\n 	Chiara Catalano (CNR – IRET)\n\nCoordinatori scienti
 fici\n\n 	Francesco Calabrò – Mediterranea University of Reggio Calabri
 a\, IT\n 	Jozsef Benedek – Babeș‑Bolyai University &amp\; Budapest Me
 tropolitan University\, HU\n 	Livia Madureira – University of Trás‑os
 ‑Montes e Alto Douro\, Vila Real\, PT\n 	Carlo Morabito – Mediterranea
  University of Reggio Calabria\, IT\n 	María José Piñeira Mantiñán 
 – University of Santiago de Compostela\, SP\n\nCall for papers\nInvitiam
 o tutte/i le/i interessate/i a proporre paper scientifici sul tema delle N
 ature‑based Solutions\, coerenti con le linee guida del Symposium NMP. L
 e proposte dovranno essere presentate secondo le modalità indicate sul si
 to ufficiale della conferenza.\n\nScadenza per l’invio: 23 gennaio 2026\
 n\nPer maggiori informazioni e submission:\n\nwww.nmp.unirc.it\n\n✉ nmp@
 unirc.it\n\nNota: l’evento sarà promosso sui canali ufficiali di NbS It
 aly Hub\, utilizzando sia la nostra identità visiva che quella del Sympos
 ium NMP 2026.\n\n\n
ATTACH;FMTTYPE=image/jpeg:https://www.nbsitalyhub.it/wp-content/uploads/20
 25/12/81.png
CATEGORIES:Eventi co-organizzati Hub
LOCATION:Mediterranea University of ​​Reggio Calabria\, Via dell'Univer
 sità\, 25\, 89124 Reggio Calabria RC\, Reggio Calabria\, Italia
X-APPLE-STRUCTURED-LOCATION;VALUE=URI;X-ADDRESS=Via dell'Università\, 25\,
  89124 Reggio Calabria RC\, Reggio Calabria\, Italia;X-APPLE-RADIUS=100;X-
 TITLE=Mediterranea University of ​​Reggio Calabria:geo:0,0
END:VEVENT
BEGIN:VTIMEZONE
TZID:Europe/Rome
X-LIC-LOCATION:Europe/Rome
BEGIN:DAYLIGHT
DTSTART:20260329T030000
TZOFFSETFROM:+0100
TZOFFSETTO:+0200
TZNAME:CEST
END:DAYLIGHT
END:VTIMEZONE
END:VCALENDAR