BEGIN:VCALENDAR
VERSION:2.0
PRODID:-//wp-events-plugin.com//7.2.3.1//EN
TZID:Europe/Rome
X-WR-TIMEZONE:Europe/Rome
BEGIN:VEVENT
UID:283@nbsitalyhub.it
DTSTART;TZID=Europe/Rome;VALUE=DATE:20250708
DTEND;TZID=Europe/Rome;VALUE=DATE:20250709
DTSTAMP:20250708T113421Z
URL:https://www.nbsitalyhub.it/eventi/nbs-italy-hub-annual-meeting-online/
SUMMARY:NbS Italy Hub Annual Meeting Online
DESCRIPTION:Non potrai partecipare all'evento in presenza a Milano? Nessun 
 problema: l’Annual Meeting di NBS Italy Hub arriva da te!\n\nL’evento 
 sarà trasmesso anche in diretta streaming online: partecipa da dove vuoi!
 \n\nPer maggiori informazioni sull'evento e per consultare il programma\, 
 visita la pagina dell'evento ufficiale: https://www.nbsitalyhub.it/eventi/
 nbs-italy-hub-annual-meeting/\n\n[block id="segui-la-diretta-streaming"]
ATTACH;FMTTYPE=image/jpeg:https://www.nbsitalyhub.it/wp-content/uploads/20
 25/07/giusto-02-1.png
CATEGORIES:Eventi co-organizzati Hub
END:VEVENT
BEGIN:VTIMEZONE
TZID:Europe/Rome
X-LIC-LOCATION:Europe/Rome
BEGIN:DAYLIGHT
DTSTART:20250330T030000
TZOFFSETFROM:+0100
TZOFFSETTO:+0200
TZNAME:CEST
END:DAYLIGHT
END:VTIMEZONE
END:VCALENDAR