BEGIN:VCALENDAR
VERSION:2.0
PRODID:-//wp-events-plugin.com//7.2.3.1//EN
TZID:Europe/Rome
X-WR-TIMEZONE:Europe/Rome
BEGIN:VEVENT
UID:40@nbsitalyhub.it
DTSTART;TZID=Europe/Rome:20240704T030000
DTEND;TZID=Europe/Rome:20240704T040000
DTSTAMP:20241209T100131Z
URL:https://www.nbsitalyhub.it/eventi/primo-webinar-nbs-eduworld-urbanbyna
 ture/
SUMMARY:Primo Webinar NbS EduWORLD UrbanByNature
DESCRIPTION:La serie di webinar UrbanByNature\, in collaborazione con il pr
 ogetto NBS EduWORLD\, si concentrerà sull’esplorazione e sulla sensibil
 izzazione delle soluzioni basate sulla natura (NbS)\, le sfide affrontate 
 dalle città ed evidenziando il potenziale dell’educazione sulle NbS per
  una transizione verso un futuro più sostenibile.\n\nIl nostro primo Webi
 nar NBS EduWORLD UrbanByNature si terrà il 4 luglio 2024 tra le 15:00 e l
 e 16:00. Questo webinar sarà caratterizzato da brevi presentazioni di ICL
 EI e di una delle nostre città NbS EduWORLD\, seguite da una sessione int
 erattiva (vedi descrizione e programma di seguito).\n\nAumentare la consap
 evolezza sulla sfida e fornire concetti generali sulle soluzioni basate su
 lla natura (NbS) per mitigare i problemi attuali e futuri è fondamentale 
 per noi all’interno del progetto NbS EduWORLD e stiamo riunendo tutti vo
 i per iniziare a unire le forze per una transizione nell’attuale NbS Sis
 temi educativi che consentono di applicare la teoria alla pratica.\n\nOrdi
 ne del giorno:\n\n 	Introduzione (8 minuti): Progetto NbS EduWORLD\, appro
 ccio del sistema di gestione integrato per l'educazione NbS fornito dal pr
 ogramma UrbanByNature e una panoramica sul formato CLEVER Exchange per l'a
 pprendimento sulle NbS. 12 minuti Presentazioni: Le sfide ambientali delle
  città NbS EduWORLD\, basate sulle informazioni raccolte nell'ambito dell
 e attività del progetto NbS EduWORLD.\n 	30 minuti per breakout room mode
 rati da ICLEI e il contributo delle nostre città NbS EduWORLD\, accolte p
 er presentare le loro sfide concrete e scambiare con il pubblico.\n 	10 mi
 nuti per le conclusioni.\n\nBreve riassunto: Il progetto NbS EduWORLD sta 
 per iniziare a condurre 6 webinar canalizzati tramite UrbanByNature che sa
 ranno aperti al pubblico più ampio interessato alle soluzioni basate sull
 a natura (NbS). Attraverso questi webinar\, coinvolgeremo un pubblico di t
 utte le età interessato a saperne di più sulla NbS\, educatori\, profess
 ionisti\, urbanisti\, membri delle nostre reti globali e internazionali e 
 altro ancora.\n\nIn questo contesto\, i webinar forniranno informazioni fr
 uttuose sulle NbS per comprendere meglio i contesti locali\, i bisogni\, i
  divari\, le disuguaglianze\, le esperienze\, le competenze e semplificare
  il processo di integrazione delle NBS nell’istruzione\, per aiutare a t
 radurre i principi sostenibili in azioni di pianificazione concrete e in d
 ialogo con i nostri partner NbS EduWORLD.\n\n&nbsp\;\n\nRegistrati al webi
 nar
ATTACH;FMTTYPE=image/jpeg:https://www.nbsitalyhub.it/wp-content/uploads/20
 24/05/358430eb-3c87-80a7-a551-230aba6a3934.png
CATEGORIES:Eventi a tema NbS
LOCATION:https://docs.google.com/forms/d/e/1FAIpQLSd_b-RjbrOifTnSqgYizgE_0P
 TWycFgA905_Hr8h07G3BPHGQ/viewform
END:VEVENT
BEGIN:VTIMEZONE
TZID:Europe/Rome
X-LIC-LOCATION:Europe/Rome
BEGIN:DAYLIGHT
DTSTART:20240331T030000
TZOFFSETFROM:+0100
TZOFFSETTO:+0200
TZNAME:CEST
END:DAYLIGHT
END:VTIMEZONE
END:VCALENDAR