BEGIN:VCALENDAR
VERSION:2.0
PRODID:-//wp-events-plugin.com//7.2.3.1//EN
TZID:Europe/Rome
X-WR-TIMEZONE:Europe/Rome
BEGIN:VEVENT
UID:271@nbsitalyhub.it
DTSTART;TZID=Europe/Rome;VALUE=DATE:20251001
DTEND;TZID=Europe/Rome;VALUE=DATE:20251101
DTSTAMP:20250618T074311Z
URL:https://www.nbsitalyhub.it/eventi/soluzioni-basate-sulla-natura-per-le
 -sfide-globali-corso-online/
SUMMARY:Soluzioni basate sulla natura per le sfide globali | corso online
DESCRIPTION:Il corso "Soluzioni basate sulla natura per le sfide globali" 
 è un programma di formazione online della durata di 8 settimane\, con un 
 impegno di circa 4 ore settimanali\, che si terrà tramite Microsoft Teams
  a partire da ottobre 2025. È pensato per professionisti provenienti da d
 iversi settori\, in particolare personale di ONG\, dirigenti aziendali\, f
 unzionari pubblici\, regolatori\, investitori e filantropi interessati a c
 omprendere come le Nature-based Solutions (NbS) possano rispondere efficac
 emente a sfide globali quali il cambiamento climatico\, la perdita di biod
 iversità e la sicurezza alimentare e idrica\, offrendo nel contempo benef
 ici sociali ed economici.\nIl corso è strutturato per fornire un’introd
 uzione approfondita alle NbS\, basata su evidenze scientifiche e pratiche 
 concrete provenienti da casi studio internazionali. Le lezioni sono tenute
  da esperti di fama mondiale\, inclusi docenti dell’Università di Oxfor
 d e di altre prestigiose istituzioni\, e prevedono una combinazione di pre
 sentazioni teoriche\, sessioni interattive e discussioni pratiche. La part
 ecipazione attiva è fondamentale per trarre il massimo beneficio dal prog
 ramma.\nQuesto corso rappresenta un’opportunità preziosa per chi deside
 ra acquisire conoscenze aggiornate e competenze applicabili nella progetta
 zione\, implementazione e valutazione di soluzioni sostenibili basate sull
 a natura\, con un approccio multidisciplinare e integrato.\nPer iscriversi
  e per maggiori informazioni\, è possibile compilare il seguente modulo d
 i iscrizione.
ATTACH;FMTTYPE=image/jpeg:https://www.nbsitalyhub.it/wp-content/uploads/20
 25/06/Screenshot-2025-06-17-163823.png
CATEGORIES:Eventi a tema NbS
LOCATION:https://forms.office.com/pages/responsepage.aspx?id=G96VzPWXk0-0uv
 5ouFLPkZx38gqfsjlFt6rXq_5cn05UN0NMQlo3SEY0NVRVTlpWRDRWVFBLTklYQy4u&route=s
 horturl
END:VEVENT
BEGIN:VTIMEZONE
TZID:Europe/Rome
X-LIC-LOCATION:Europe/Rome
BEGIN:DAYLIGHT
DTSTART:20250330T030000
TZOFFSETFROM:+0100
TZOFFSETTO:+0200
TZNAME:CEST
END:DAYLIGHT
BEGIN:STANDARD
DTSTART:20251026T020000
TZOFFSETFROM:+0200
TZOFFSETTO:+0100
TZNAME:CET
END:STANDARD
END:VTIMEZONE
END:VCALENDAR