BEGIN:VCALENDAR
VERSION:2.0
PRODID:-//wp-events-plugin.com//7.2.3.1//EN
TZID:Europe/Rome
X-WR-TIMEZONE:Europe/Rome
BEGIN:VEVENT
UID:275@nbsitalyhub.it
DTSTART;TZID=Europe/Rome;VALUE=DATE:20250922
DTEND;TZID=Europe/Rome;VALUE=DATE:20250927
DTSTAMP:20250618T090330Z
URL:https://www.nbsitalyhub.it/eventi/summer-school-ecosistemi-marino-cost
 ieri-e-cambiamenti-climatici-catene-di-connessioni-e-resilienza/
SUMMARY:Summer school | Ecosistemi marino-costieri e cambiamenti climatici:
  catene di connessioni e resilienza
DESCRIPTION:La Summer School “Ecosistemi marino-costieri e Cambiamenti Cl
 imatici: catene di connessioni e resilienza”\, organizzata da ISPRA (Ist
 ituto Superiore per la Protezione e la Ricerca Ambientale) nell’ambito d
 ella Scuola di Specializzazione in Discipline Ambientali\, si terrà a Cag
 liari dal 22 al 26 settembre 2025.\nRivolta a neolaureati magistrali\, dot
 torandi e neo-dottori di ricerca\, la scuola ha l’obiettivo di fornire u
 n approccio pratico alla gestione sostenibile della fascia costiera e favo
 rire il collegamento tra formazione accademica e ricerca applicata\, apren
 do nuove opportunità professionali nel settore ambientale.\nIl programma 
 alternerà lezioni frontali\, attività laboratoriali e visite sul campo\,
  affrontando in particolare le tematiche legate agli ambienti marino-costi
 eri\, agli effetti dei cambiamenti climatici e alle strategie di adattamen
 to.\nLa partecipazione è gratuita\, ma restano a carico dei partecipanti 
 le spese di viaggio\, vitto e alloggio. Le richieste di iscrizione devono 
 essere inviate entro il 27 giugno 2025\, corredate da curriculum vitae e l
 ettera motivazionale in formato PDF.\nLa selezione avverrà sulla base del
 la coerenza del percorso formativo con le tematiche trattate. A conclusion
 e del corso\, sarà possibile accedere alla piattaforma ISPRA per scaricar
 e il materiale didattico\, completare la valutazione finale e ottenere l
 ’attestato di partecipazione.\nPer ulteriori informazioni è possibile s
 crivere a fad@isprambiente.it o consultare il sito ufficiale.
ATTACH;FMTTYPE=image/jpeg:https://www.nbsitalyhub.it/wp-content/uploads/20
 25/06/2025092_Summer-School-Ecosistemi-marino-costieri-e-cambiamenti-clima
 tici-catene-di-connessioni-e-resilienza-1.jpeg
CATEGORIES:Eventi a tema NbS
LOCATION:Cagliari\, Cagliari\, Cagliari\, Italia
X-APPLE-STRUCTURED-LOCATION;VALUE=URI;X-ADDRESS=Cagliari\, Cagliari\, Itali
 a;X-APPLE-RADIUS=100;X-TITLE=Cagliari:geo:0,0
END:VEVENT
BEGIN:VTIMEZONE
TZID:Europe/Rome
X-LIC-LOCATION:Europe/Rome
BEGIN:DAYLIGHT
DTSTART:20250330T030000
TZOFFSETFROM:+0100
TZOFFSETTO:+0200
TZNAME:CEST
END:DAYLIGHT
END:VTIMEZONE
END:VCALENDAR