BEGIN:VCALENDAR
VERSION:2.0
PRODID:-//wp-events-plugin.com//7.2.3.1//EN
TZID:Europe/Rome
X-WR-TIMEZONE:Europe/Rome
BEGIN:VEVENT
UID:248@nbsitalyhub.it
DTSTART;TZID=Europe/Rome;VALUE=DATE:20250629
DTEND;TZID=Europe/Rome;VALUE=DATE:20250705
DTSTAMP:20250528T131732Z
URL:https://www.nbsitalyhub.it/eventi/summer-school-nbs-eduworld/
SUMMARY:Summer School NbS EduWORLD
DESCRIPTION:Il NbS EduWORLD International Course 2025\, parte dell’NbS Ed
 uWORLD Academy\, si svolgerà dal 29 giugno al 4 luglio 2025 e si rivolge 
 a dirigenti scolastici e insegnanti della scuola primaria e secondaria\, c
 on l’obiettivo di integrare le Nature-Based Solutions nei contesti educa
 tivi attraverso un approccio sistemico e partecipativo.\n\nLa Summer Schoo
 l si svolgerà presso il Golden Coast Hotel &amp\; Bungalows\, situato sul
 la spiaggia della baia di Maratona (Grecia).\n\nDurante il corso\, i parte
 cipanti approfondiranno i concetti fondamentali delle NbS e il loro potenz
 iale educativo\, esploreranno pedagogie innovative\, casi studio e risorse
  didattiche\, ed elaboreranno un action plan per trasformare la propria sc
 uola in un Living Lab NbS. Verranno inoltre introdotti all’European sust
 ainability competence framework (GreenComp)\, parteciperanno ad attività 
 di apprendimento tra pari\, networking e scambio di buone pratiche\, e sco
 priranno opportunità di finanziamento e cooperazione transnazionale.\n\nI
  temi trattati spazieranno dalla definizione e tipologie di NbS secondo l
 ’UE agli scenari futuri fino alle strategie integrare le NbS nel curricu
 lum STEAM (Science\, Technology\, Engineering\, Arts e Mathematics).\n\nIl
  corso si concluderà con la presentazione degli action plan sviluppati da
 i partecipanti\, con l’obiettivo di promuovere la sostenibilità\, innov
 are la didattica e contribuire attivamente all’educazione al cambiamento
  climatico.\n\nPer maggiori informazioni visita il sito ufficiale.
ATTACH;FMTTYPE=image/jpeg:https://www.nbsitalyhub.it/wp-content/uploads/20
 25/05/2025_NbS-EduWORLD-Summer-School-2025.jpg
CATEGORIES:Eventi a tema NbS
LOCATION:Golden Coast Hotel & Resort\, Marathon Beach\, Marathonas\, 190 07
 \, Grecia
X-APPLE-STRUCTURED-LOCATION;VALUE=URI;X-ADDRESS=Marathon Beach\, Marathonas
 \, 190 07\, Grecia;X-APPLE-RADIUS=100;X-TITLE=Golden Coast Hotel & Resort:
 geo:0,0
END:VEVENT
BEGIN:VTIMEZONE
TZID:Europe/Rome
X-LIC-LOCATION:Europe/Rome
BEGIN:DAYLIGHT
DTSTART:20250330T030000
TZOFFSETFROM:+0100
TZOFFSETTO:+0200
TZNAME:CEST
END:DAYLIGHT
END:VTIMEZONE
END:VCALENDAR