BEGIN:VCALENDAR
VERSION:2.0
PRODID:-//wp-events-plugin.com//7.2.3.1//EN
TZID:Europe/Rome
X-WR-TIMEZONE:Europe/Rome
BEGIN:VEVENT
UID:277@nbsitalyhub.it
DTSTART;TZID=Europe/Rome:20250703T150000
DTEND;TZID=Europe/Rome:20250703T163000
DTSTAMP:20250618T093302Z
URL:https://www.nbsitalyhub.it/eventi/webinar-la-natura-per-tutti-rendere-
 leducazione-alle-soluzioni-basate-sulla-natura-accessibile-e-inclusiva-a-l
 ivello-globale/
SUMMARY:Webinar | La Natura per tutti: Rendere l’educazione alle soluzion
 i basate sulla natura accessibile e inclusiva a livello globale
DESCRIPTION:Il sesto e ultimo webinar UrbanByNature del progetto NBS EduWOR
 LD\, intitolato “La Natura per Tutti – Rendere l’educazione alle Sol
 uzioni Basate sulla Natura accessibile e inclusiva a livello globale”\, 
 si terrà online il 3 luglio 2025\, dalle 15:00 alle 16:30.\nCon l’aumen
 to dell’interesse globale per le soluzioni basate sulla natura in rispos
 ta alla perdita di biodiversità\, ai cambiamenti climatici e alle sfide d
 ello sviluppo sostenibile\, il webinar affronterà il tema fondamentale de
 ll’accesso all’educazione sulle NbS e degli ostacoli che incontrano i 
 gruppi emarginati.\nOrganizzato nell’ambito del progetto europeo Horizon
  Europe NBS EduWORLD\, l’evento esplorerà le barriere sistemiche\, prom
 uoverà ambienti di apprendimento inclusivi e analizzerà l’importanza d
 ella diversità culturale e del sapere locale nella costruzione di modelli
  educativi equi ed efficaci.\nSaranno condivisi strumenti\, strategie e ca
 si studio per mostrare come rendere l’educazione alle NbS inclusiva\, pe
 rtinente e accessibile a tutti.\nPer ricevere il link di partecipazione è
  necessario registrarsi sul sito ufficiale.
ATTACH;FMTTYPE=image/jpeg:https://www.nbsitalyhub.it/wp-content/uploads/20
 25/06/202507_Nature-for-All-–-Making-Nature-based-Solution-Education-glo
 bally-accessible-and-inclusive.jpg
CATEGORIES:Eventi a tema NbS
LOCATION:https://urbanbynature.eu/events/join-final-nbs-eduworld-urbanbynat
 ure-webinar-nature-all-making-nature-based-solution
END:VEVENT
BEGIN:VTIMEZONE
TZID:Europe/Rome
X-LIC-LOCATION:Europe/Rome
BEGIN:DAYLIGHT
DTSTART:20250330T030000
TZOFFSETFROM:+0100
TZOFFSETTO:+0200
TZNAME:CEST
END:DAYLIGHT
END:VTIMEZONE
END:VCALENDAR