BEGIN:VCALENDAR
VERSION:2.0
PRODID:-//wp-events-plugin.com//7.2.3.1//EN
TZID:Europe/Rome
X-WR-TIMEZONE:Europe/Rome
BEGIN:VEVENT
UID:244@nbsitalyhub.it
DTSTART;TZID=Europe/Rome;VALUE=DATE:20250625
DTEND;TZID=Europe/Rome;VALUE=DATE:20250626
DTSTAMP:20250618T074645Z
URL:https://www.nbsitalyhub.it/eventi/workshop-nature-based-solutions-conn
 ecting-science-and-practice/
SUMMARY:Workshop: Nature-based Solutions Connecting Science and Practice
DESCRIPTION:Nell’ambito del 41° congresso mondiale dell’International 
 Association for Hydro-Environment Engineering and Research (IAHR)\, che si
  terrà a Singapore dal 22 al 27 giugno\, è previsto il workshop “Natur
 e-based Solutions: Connecting Science and Practice”\, in programma merco
 ledì 25 giugno 2025\, dalle 14:00 alle 15:30 nella Sala 13.\n\nIl tema de
 ll’edizione 2025 dell’IAHR sarà “Innovative Water Engineering for S
 ustainable Development” ed avrà l’obiettivo di favorire il dialogo in
 terdisciplinare\, lo scambio di conoscenze all’avanguardia e l’esplora
 zione di soluzioni innovative per affrontare le più urgenti sfide legate 
 alla gestione delle risorse idriche a livello globale.\n\nIn particolare\,
  il workshop offrirà uno spazio di confronto interattivo dedicato alle Nb
 S e alla loro applicazione\, concentrandosi sugli aspetti fondamentali per
  garantire il successo di un intervento NbS\, tra cui finanziamento\, gove
 rnance\, processi e fasi di co-progettazione. Attraverso l’analisi di ca
 si studio\, come il Bishan Park di Singapore\, il Severn Valley e il Proje
 ct Groundwater nel Regno Unito\, i partecipanti avranno l’opportunità d
 i approfondire le dinamiche operative e strategiche che stanno dietro la p
 ianificazione e l’implementazione di questi interventi.\n\nL’incontro 
 prevedrà il coinvolgimento diretto del pubblico e offrirà un’occasione
  per riflettere sull’importanza della partecipazione degli stakeholder\,
  sulle fasi di progettazione e sviluppo di una NbS e sugli sforzi richiest
 i per garantirne l’efficacia. Rappresenterà inoltre un momento di condi
 visione di esperienze e ricerche pionieristiche per rafforzare il legame t
 ra ricerca scientifica e pratica sul campo.\n\nPer maggiori informazioni v
 isita il sito ufficiale\n\n&nbsp\;
ATTACH;FMTTYPE=image/jpeg:https://www.nbsitalyhub.it/wp-content/uploads/20
 25/05/2025_Nature-Based-Solutions-Connecting-Science-and-Practice-Workshop
 .jpg
CATEGORIES:Eventi a tema NbS
LOCATION:Singapore EXPO\, 1 Expo Dr\, Singapore \, 486150\, Cina
X-APPLE-STRUCTURED-LOCATION;VALUE=URI;X-ADDRESS=1 Expo Dr\, Singapore \, 48
 6150\, Cina;X-APPLE-RADIUS=100;X-TITLE=Singapore EXPO:geo:0,0
END:VEVENT
BEGIN:VTIMEZONE
TZID:Europe/Rome
X-LIC-LOCATION:Europe/Rome
BEGIN:DAYLIGHT
DTSTART:20250330T030000
TZOFFSETFROM:+0100
TZOFFSETTO:+0200
TZNAME:CEST
END:DAYLIGHT
END:VTIMEZONE
END:VCALENDAR